BEGIN:VCALENDAR
VERSION:2.0
X-WR-TIMEZONE:Europe/Paris
PRODID:-//Audencia//NONSGML v1.0//EN
CALSCALE:GREGORIAN
BEGIN:VEVENT
SUMMARY:Club Activités Culturelles - Vernissage "Audace" de l'artiste Blandine (GE 94)
DTSTART:20200123T163000
DTEND:20200123T223000
UID:611
DTSTAMP:20260425T210141
LOCATION:Hotel Vernet - Salon Signature 25 rue Vernet 75008 Paris
DESCRIPTION:Blandine Étienne-Kahn (GE 94), devenue une artiste peintre qui mêle lumière et couleurs pour imprimer les plus beaux moments de la vie, a le plaisir de vous inviter à son vernissage confidentiel intitulé « AUDACE » le jeudi 23 janvier 2020 dans l'hôtel Vernet (Salon Signature, Paris 8ème) dès 16h30.\n\nBlandine place 2020 sous le signe de l’« AUDACE »\n- Audace dans la peinture : sortir du cadre, changer les formats du châssis, reformater les compositions, oser encore et toujours les couleurs vives \n- Audace du message : plonger, oser, se lancer, voyager, évoquer la planète et la gratitude\n- Audace des présentations de mes  peintures : petits vernissages confidentiels et chaleureux, présentation sur mesure et sur place….\n\nAlors, soyez AUDACieux et venez partager un verre et parler d’art autour de ses peintures.\n\n\n\nWebsite : www.envied1peinture.com\nInstagram : blandine.ek\n 
BEGIN:VALARM
ACTION:DISPLAY
TRIGGER:-PT60M
DESCRIPTION:Club Activités Culturelles - Vernissage "Audace" de l'artiste Blandine (GE 94)
END:VALARM
END:VEVENT
END:VCALENDAR