BEGIN:VCALENDAR
VERSION:2.0
X-WR-TIMEZONE:Europe/Paris
PRODID:-//Audencia//NONSGML v1.0//EN
CALSCALE:GREGORIAN
BEGIN:VEVENT
SUMMARY:Cérémonie de remise des diplômes / Graduation ceremony
DTSTART:20200208T090000
DTEND:20200208T193000
UID:610
DTSTAMP:20260425T210151
LOCATION:La Cité Nantes Congress Centre 5 Rue de Valmy Nantes
DESCRIPTION:The class of 2019 graduation ceremony will take place on Saturday 8 February 2020 at La Cité Nantes Congress Centre, 5 Rue de Valmy, Nantes.\n\nMorning ceremony\n\n	BACHELOR & BBA\n	SCIENCESCOM\n	INTERNATIONAL MASTERS\n	INTERNATIONAL MBAs\n	EXECUTIVE PROGRAMMES\n\n\nAfternoon ceremony\n\n	SPECIALISED MASTERS\n	GRANDE ECOLE\n\n \n\nFor full details: audencia-graduation.com\n\n \n \nImportant information about the ceremony will be sent to your @audencia.com address.\nPlease consult your mailbox regularly and also check your spam file.\n\n\nInterpretation headsets will be provided for international guests and graduates.\nFor guests or students who cannot attend, the ceremony can be watched live from 10:45 to 17:15.\n\n\n 
BEGIN:VALARM
ACTION:DISPLAY
TRIGGER:-PT60M
DESCRIPTION:Cérémonie de remise des diplômes / Graduation ceremony
END:VALARM
END:VEVENT
END:VCALENDAR