BEGIN:VCALENDAR
VERSION:2.0
X-WR-TIMEZONE:Europe/Paris
PRODID:-//Audencia//NONSGML v1.0//EN
CALSCALE:GREGORIAN
BEGIN:VEVENT
SUMMARY:"Vis ma vie de dirigeant" Passez une journée avec un dirigeant d'entreprise diplômé d'Audencia !
DTSTART:20170720T090000
DTEND:20170720T180000
UID:61
DTSTAMP:20260425T205859
LOCATION:Nantes
DESCRIPTION:Le Club Audencia des Dirigeants de l'Ouest vous invite à passer une journée avec un dirigeant diplômé d'Audencia dans son entreprise de la région. Vous aurez alors un aperçu de ce qu'est concrètement la vie de dirigeant d'entreprise !\n\nPour information : la date de cet événement dépend des disponibilités des dirigeants d'entreprise, l'action peut se dérouler entre juillet et novembre 2017.\n\nLes entreprises participant à cette belle action : GROUPE BATISSEURS D'AVENIR, LA BELLE BOITE, CONNEXING, POSSON PACKAGING, INSECTEINE, EMOTIC, NAONED, GROUPE CONFLUENT, INSERIM.\n\n \n\nMerci de vous inscrire dès à présent et d'envoyer vos motivations, disponibilités ainsi que votre préférence d'entreprise (si vous en avez) en cliquant ici.\n\nAttention, le nombre de places est limité.\n \n\nPour tout complément d'information, n'hésitez pas à contacter Emilie TENDRON par mail : etendron@audencia.com\n\n\nLe Club Audencia des Dirigeants de l'Ouest
BEGIN:VALARM
ACTION:DISPLAY
TRIGGER:-PT60M
DESCRIPTION:"Vis ma vie de dirigeant" Passez une journée avec un dirigeant d'entreprise diplômé d'Audencia !
END:VALARM
END:VEVENT
END:VCALENDAR