BEGIN:VCALENDAR
VERSION:2.0
X-WR-TIMEZONE:Europe/Paris
PRODID:-//Audencia//NONSGML v1.0//EN
CALSCALE:GREGORIAN
BEGIN:VEVENT
SUMMARY:CV photo shoot during Career Connections Week, Audencia Atlantic Campus, Nantes
DTSTART:20200123T140000
DTEND:20200123T170000
UID:609
DTSTAMP:20260425T205820
LOCATION:Forum, Audencia Atlantic Campus 8 route de la Joneliere 44312 Nantes
DESCRIPTION:Come to the Audencia Forum on Thursday 23 January between 2.00 and 5.00pm to have your CV photo taken by a professional photographer*.\n\n \nREGISTER NOW ON\nTOMORROW\n \n\n*business dress recommended!
BEGIN:VALARM
ACTION:DISPLAY
TRIGGER:-PT60M
DESCRIPTION:CV photo shoot during Career Connections Week, Audencia Atlantic Campus, Nantes
END:VALARM
END:VEVENT
END:VCALENDAR