BEGIN:VCALENDAR
VERSION:2.0
X-WR-TIMEZONE:Europe/Paris
PRODID:-//Audencia//NONSGML v1.0//EN
CALSCALE:GREGORIAN
BEGIN:VEVENT
SUMMARY:Webinar - Comment créer une newsletter efficace ?
DTSTART:20200114T120000
DTEND:20200124T130000
UID:608
DTSTAMP:20260425T205849
LOCATION:
DESCRIPTION:Vous souhaitez envoyer des Newsletters, mais vous ne savez pas trop comment faire pour qu'elles soient efficaces ?\n\nPour en savoir plus, il vous suffit de vous inscrire au webinar avec Le Lab RH organisé par Monsieur Lucien, fondé par Julien TOURME le mardi 14 janvier de 12h à 13h : https://www.eventbrite.fr/e/billets-webinar-comment-creer-une-newsletter-efficace-86124951047\n\n\n 
BEGIN:VALARM
ACTION:DISPLAY
TRIGGER:-PT60M
DESCRIPTION:Webinar - Comment créer une newsletter efficace ?
END:VALARM
END:VEVENT
END:VCALENDAR