BEGIN:VCALENDAR
VERSION:2.0
X-WR-TIMEZONE:Europe/Paris
PRODID:-//Audencia//NONSGML v1.0//EN
CALSCALE:GREGORIAN
BEGIN:VEVENT
SUMMARY:NOW ONLINE! Audencia Alumni Around the World in Dubai, UAE
DTSTART:20200319T153000
DTEND:20200319T163000
UID:605
DTSTAMP:20260425T210025
LOCATION:
DESCRIPTION:The Dubai networking event organised by AMBA has now moved online!\n\nAMBA is pleased to share the news that our Dubai Connect event will be taking place online. Ebony Thomas will be discussing the nuances surrounding work-readiness in an international context, drawing from her HR / recruitment expertise and knowledge in the UAE. She aims to equip the audience with useful tools to take away, including successful interviewing techniques.\n\nDate: Thursday 19 March\nTime: 15:30 (local time // GMT+4)\n \n​Join the webinar here​\n\nSpeaker: Ebony Thomas, Managing Partner, Head of Manufacturing & Engineering & HR Advisory at Cooper Fitch\nEbony Thomas has 10 years of global recruitment experience, gained as a highly successful Consultant, Strategist and Business Leader in the UK, Europe, the Middle East and North Africa.\n\nTopic: Ebony will be discussing the nuances surrounding work-readiness in an international context, drawing from her HR / recruitment expertise and knowledge in the UAE. She aims to equip the audience with useful tools to take away, including successful interviewing techniques.\n\n\nTo discover which cities are hosting an Around the World event, click on the image below\n \n
BEGIN:VALARM
ACTION:DISPLAY
TRIGGER:-PT60M
DESCRIPTION:NOW ONLINE! Audencia Alumni Around the World in Dubai, UAE
END:VALARM
END:VEVENT
END:VCALENDAR