BEGIN:VCALENDAR
VERSION:2.0
X-WR-TIMEZONE:Europe/Paris
PRODID:-//Audencia//NONSGML v1.0//EN
CALSCALE:GREGORIAN
BEGIN:VEVENT
SUMMARY:Webinar: How to achieve positive sleep and transform your life
DTSTART:20201020T130000
DTEND:20201020T140000
UID:604
DTSTAMP:20260425T205724
LOCATION:
DESCRIPTION:How to achieve positive sleep and transform your life\n\nDate: 20 October 2020\nTime: 13:00-14:00\nDuring this webinar, Giles Watkins will discuss his own sleep struggles and offer guidance, techniques and personal tips that transformed his life and helped him to sleep better.\n\nAlong the way he will explain explains the importance and function of sleep and how a lack of sleep typically effects professionals. The webinar will also examine how organisations can promote better sleep. \n\nAs challenges with sleep for professionals reach epidemic proportions in the 21st century, this webinar will provide an invaluable guide for those in positions of responsibility and encourages employee wellbeing in organisations.\nAbout the speaker\nGiles is a Coach and Mentor with both Aberkyn and Vistage. He has a master’s in coaching and consulting for change from INSEAD, and more than 30 years of global business and general management experience in enabling decision makers to solve problems, achieve balance, deliver superior results and sleep better at night.\n\n \nTo join the webinar\nREGISTER HERE\n \n\nDid you graduate from an AMBA-accredited programme at Audencia?\nThis webinar is accessible to students or alumni of an AMBA-accredited programme at Audencia, i.e., Executive MBA, EuroMBA, Full-Time MBA or Master in Management (Grande Ecole Programme), but registration is required. Registering as an alum of an AMBA-accredited programme takes only a few minutes.\nThis event is free for AMBA members to attend but registration is required using the link above.
BEGIN:VALARM
ACTION:DISPLAY
TRIGGER:-PT60M
DESCRIPTION:Webinar: How to achieve positive sleep and transform your life
END:VALARM
END:VEVENT
END:VCALENDAR