BEGIN:VCALENDAR
VERSION:2.0
X-WR-TIMEZONE:Europe/Paris
PRODID:-//Audencia//NONSGML v1.0//EN
CALSCALE:GREGORIAN
BEGIN:VEVENT
SUMMARY:Webinar: How to discover your strengths and what makes you thrive
DTSTART:20200929T130000
DTEND:20200929T140000
UID:603
DTSTAMP:20260425T210043
LOCATION:
DESCRIPTION:How to discover your strengths and what makes you thrive\n\nDate: 29 September 2020\nTime: 13:00-14:00\nIt’s human nature to focus more on our weaknesses because we are programmed to be alert to risks in our environment.\n\nWe end up focusing on what isn’t working, often overshadowing all the positives. But what if you focused on and played to your strengths instead? \n\nWhen you understand your strengths, you know what will make you fulfilled, happy and successful. It means you can become the best version of yourself as well as being confident about who you are.\n\nMost people don’t know their strengths and struggle to know what’s right for them. If you want to become more energised and effective in life, work, and relationships, this is the webinar for you.\nAbout the speaker\nOur presenter is Sally Bibb, a leading figure in the strengths movement and the author of Strengths-Based Recruitment and Development and The Strengths Book. She is a consultant and previously worked at The Economist.\n\n \nTo join the webinar\nREGISTER HERE\n \n\nDid you graduate from an AMBA-accredited programme at Audencia?\nThis webinar is accessible to students or alumni of an AMBA-accredited programme at Audencia, i.e., Executive MBA, EuroMBA, Full-Time MBA or Master in Management (Grande Ecole Programme), but registration is required. Registering as an alum of an AMBA-accredited programme takes only a few minutes.\nThis event is free for AMBA members to attend but registration is required using the link above.
BEGIN:VALARM
ACTION:DISPLAY
TRIGGER:-PT60M
DESCRIPTION:Webinar: How to discover your strengths and what makes you thrive
END:VALARM
END:VEVENT
END:VCALENDAR