BEGIN:VCALENDAR
VERSION:2.0
X-WR-TIMEZONE:Europe/Paris
PRODID:-//Audencia//NONSGML v1.0//EN
CALSCALE:GREGORIAN
BEGIN:VEVENT
SUMMARY:Webinar: How to boost your energy in work and life
DTSTART:20200804T130000
DTEND:20200804T140000
UID:602
DTSTAMP:20260425T205726
LOCATION:
DESCRIPTION:How to boost your energy in work and life\n\nDate: 4 August 2020\nTime: 13:00-14:00 PARIS TIME\nWhat happens when you don’t recharge your smartphone on a regular basis? Of course, it runs down and eventually stops working. Your body and mind work in the same way.\n\nTo ensure their healthy and effective functioning, it is essential to recharge your four types of personal energy every day – and this webinar, hosted by Richard Maddocks, will explain how.\n\nWith all of the daily demands on your energy, finding ways to both increase and better manage your energy levels is not only desirable, it’s a must.\nAbout the speaker\nWith over 40 years’ experience, Richard quit corporate life to help organisations and individuals maximise their full potential through his training and coaching company, Communicum.\n\n \nTo join the webinar\nREGISTER HERE\n \n\nDid you graduate from an AMBA-accredited programme at Audencia?\nThis webinar is accessible to students or alumni of an AMBA-accredited programme at Audencia, i.e., Executive MBA, EuroMBA, Full-Time MBA or Master in Management (Grande Ecole Programme), but registration is required. Registering as an alum of an AMBA-accredited programme takes only a few minutes.\nThis event is free for AMBA members to attend but registration is required using the link above.
BEGIN:VALARM
ACTION:DISPLAY
TRIGGER:-PT60M
DESCRIPTION:Webinar: How to boost your energy in work and life
END:VALARM
END:VEVENT
END:VCALENDAR