BEGIN:VCALENDAR
VERSION:2.0
X-WR-TIMEZONE:Europe/Paris
PRODID:-//Audencia//NONSGML v1.0//EN
CALSCALE:GREGORIAN
BEGIN:VEVENT
SUMMARY:Webinar: How to organise the workforce of the future
DTSTART:20200609T130000
DTEND:20200609T140000
UID:600
DTSTAMP:20260425T205844
LOCATION:
DESCRIPTION:How to organise the workforce of the future\n\nDate: Tuesday 9 June 2020\nTime: 13:00-14:00 PARIS TIME\nDuring the past century, changes in technology have driven significant developments in the social economy.\n\nThe Fourth Industrial Revolution demands new approaches to organisational structures and teams. A paradigm shift is emerging, putting engagement, relations, inclusion and freedom at the centre.\n\nWe need small self-managed teams, in a team-of-teams structure to be relevant to employees and customers, and in order to adapt to a changing world. \n\nDuring this webinar, Erik Korsvik Østergaard will draw on the workings of Frederic Laloux, and his 2014 title Reiventing Organisations. Laloux discusses the five organisational stages to the modern workforce which he categorises as red, amber, orange, green and teal.\n\nØstergaard will present arguments that the classical corporate structure, currently at the orange stage, has experienced a rise in teal dots, or rather neo-modernist forms of team-oriented organisms, which express a reorganisation for the future workforce.\n \nAbout the speaker\nErik is Partner and Founder of Bloch&Østergaard, a Danish leadership advisory company that provides inspiration, guidance, and implementation support to top and middle management. He is also a mentor, keynote speaker, and trusted advisor. Over the past few years, Erik has focused on codifying the mechanisms for the future of work to establish a leadership framework for modern organisations.\n\n \nTo join the webinar\nREGISTER HERE\n \n\nDid you graduate from an AMBA-accredited programme at Audencia?\nThis webinar is accessible to students or alumni of an AMBA-accredited programme at Audencia, i.e., Executive MBA, EuroMBA, Full-Time MBA or Master in Management (Grande Ecole Programme), but registration is required. Registering as an alum of an AMBA-accredited programme takes only a few minutes.\nThis event is free for AMBA members to attend but registration is required using the link above.
BEGIN:VALARM
ACTION:DISPLAY
TRIGGER:-PT60M
DESCRIPTION:Webinar: How to organise the workforce of the future
END:VALARM
END:VEVENT
END:VCALENDAR