BEGIN:VCALENDAR
VERSION:2.0
X-WR-TIMEZONE:Europe/Paris
PRODID:-//Audencia//NONSGML v1.0//EN
CALSCALE:GREGORIAN
BEGIN:VEVENT
SUMMARY:Webinar: Les solutions pour financer votre formation
DTSTART:20170615T140000
DTEND:20170615T143000
UID:60
DTSTAMP:20260425T205731
LOCATION:En ligne
DESCRIPTION:Audencia Executive Education vous donne RDV pour vous faire une présentation simplifiée des principaux dispositifs de financement auxquels vous aurez accès, quelque soit votre situation professionnelle.\n\n- Web conférence de 30 minutes - gratuite et ouverte à tous -\n\nles meilleurs dispositifs pour financer sa formation\n\nqui aura lieu le Jeudi 15 Juin à 14h avec Louis-Dominique Dubourdieu\n\n\n\n\nSuivez ce lien pour vous inscrire\n\nSi vous n'êtes pas disponible pour le Live, le Replay sera en ligne dès le 16 juin !
BEGIN:VALARM
ACTION:DISPLAY
TRIGGER:-PT60M
DESCRIPTION:Webinar: Les solutions pour financer votre formation
END:VALARM
END:VEVENT
END:VCALENDAR