BEGIN:VCALENDAR
VERSION:2.0
X-WR-TIMEZONE:Europe/Paris
PRODID:-//Audencia//NONSGML v1.0//EN
CALSCALE:GREGORIAN
BEGIN:VEVENT
SUMMARY:Webinar: Becoming a better boss
DTSTART:20170315T193000
DTEND:20170315T204500
UID:6
DTSTAMP:20260425T223845
LOCATION:
DESCRIPTION:Many talented people trip up when they move from doing work themselves to managing people and teams. According to London Business School professor Julian Birkinshaw we face a “knowing-doing” gap as managers.  We know from our experience as employees how we want to be managed. The problem is that doing the right things as a manager – and doing them consistently - is hard.\n \nIn this webinar, we will review what good management looks like and explore techniques we can all use to be a better boss more of the time.  We will cover:\n \n\n	The most common bad management habits\n	How to use a “stop doing” list and plan ahead for risky situations\n	How to get real feedback (and who is best placed to give it)\n	Ways to avoid micro-management and give up control\n	How to use management experiments to discover and embed good practice.\n\nWe will also examine how organisations can learn these lessons and deal with perverse incentives which encourage dysfunctional management.\n \nPlease register here to attend this webinar\n\nAll attendees will receive the meeting slides, a recording and a resource pack.
BEGIN:VALARM
ACTION:DISPLAY
TRIGGER:-PT60M
DESCRIPTION:Webinar: Becoming a better boss
END:VALARM
END:VEVENT
END:VCALENDAR