BEGIN:VCALENDAR
VERSION:2.0
X-WR-TIMEZONE:Europe/Paris
PRODID:-//Audencia//NONSGML v1.0//EN
CALSCALE:GREGORIAN
BEGIN:VEVENT
SUMMARY:Webinar: Get ahead in your new job
DTSTART:20200213T130000
DTEND:20200213T140000
UID:598
DTSTAMP:20260425T205905
LOCATION:
DESCRIPTION:Get ahead in your new job\n\nDate: 13 February 2020\nTime: 13:00-14:00 PARIS TIME\nIncreasingly, employers are judging potential candidates on their ability to offer short-term success and wondering how quickly new hires – at all management levels – will provide a return on their investment.\n\nEmployers tell recruitment agencies they need someone who ‘will hit the ground running’ and from day one, form conclusions about their recruit’s future within the business.\n\nAre you a star, or perhaps someone who won’t be around long? Successful career management is about managing your opening 100 days more effectively.\n\nJohn Lees, author of 15 books on careers and work including the best-selling How To Get A Job You Love, offers a webinar focused on getting the most out of any new role.\nAbout the speaker\nJohn Lees is one of the UK’s most prominent career transition coaches, and regularly in the media as a career thought leader.\nHe has published a wide range of books on careers and work including the UK best-seller How to Get a Job You Love. His books have been translated into Arabic, Georgian, Polish, Japanese and Spanish. John has delivered workshops in Ireland, Germany, Mauritius, the US, South Africa, Switzerland, Australia and New Zealand.\nHe was a founding board member of the Career Development Institute, and established the Career Coach Forum on LinkedIn (7,000+ members worldwide). He is a NICEC Fellow, a Fellow of the CIPD, and holds degrees from the Universities of Cambridge, London and Liverpool.\n\n \nTo join the webinar\nREGISTER HERE\n\n​Did you graduate from an AMBA-accredited programme at Audencia?\nThis webinar is accessible to students or alumni of an AMBA-accredited programme at Audencia, i.e., Executive MBA, EuroMBA, Full-Time MBA or Master in Management (Grande Ecole Programme), but registration is required. Registering as an alum of an AMBA-accredited programme takes only a few minutes.\nThis event is free for AMBA members to attend but registration is required using the link above.\n\n\n 
BEGIN:VALARM
ACTION:DISPLAY
TRIGGER:-PT60M
DESCRIPTION:Webinar: Get ahead in your new job
END:VALARM
END:VEVENT
END:VCALENDAR