BEGIN:VCALENDAR
VERSION:2.0
X-WR-TIMEZONE:Europe/Paris
PRODID:-//Audencia//NONSGML v1.0//EN
CALSCALE:GREGORIAN
BEGIN:VEVENT
SUMMARY:Webinar: Redefining leadership - moving business performance from KPIs to a mind-blowing creative approach
DTSTART:20200121T130000
DTEND:20200121T140000
UID:597
DTSTAMP:20260425T210146
LOCATION:
DESCRIPTION:Redefining leadership: moving business performance from KPIs to a mind-blowing creative approach, worthy of a standing ovation\n\nDate: 21 Januray 2020\nTime: 13:00-14:00 PARIS TIME\nThe organisations that are succeeding in the modern world are the ones that are putting on a great performance in the fullest sense of the world – the ones that are delighting their audiences. In this AMBA webinar, Dr Mark Powell and Jonathan Gifford will reveal the mindsets and techniques behind every great performance and show us how to deliver winning performances of our own. \n\nDr Mark Powell and Jonathan Gifford are authors of The Five Principles of Performance Thinking. \n\n	Dr Mark Powell is a business writer, consultant and entrepreneur with over thirty years’ experience. His increasing focus has been using performing arts to solve modern day business challenges. \n	Jonathan Gifford is a business author who formerly worked in advertising and magazine publishing. He studied philosophy at University in Kent and played saxophone semi-professionally.\n\n \n\nTo join the webinar\nREGISTER HERE\n \n\nDid you graduate from an AMBA-accredited programme at Audencia?\nThis webinar is accessible to students or alumni of an AMBA-accredited programme at Audencia, i.e., Executive MBA, EuroMBA, Full-Time MBA or Master in Management (Grande Ecole Programme), but registration is required. Registering as an alum of an AMBA-accredited programme takes only a few minutes.\nThis event is free for AMBA members to attend but registration is required using the link above.
BEGIN:VALARM
ACTION:DISPLAY
TRIGGER:-PT60M
DESCRIPTION:Webinar: Redefining leadership - moving business performance from KPIs to a mind-blowing creative approach
END:VALARM
END:VEVENT
END:VCALENDAR