BEGIN:VCALENDAR
VERSION:2.0
X-WR-TIMEZONE:Europe/Paris
PRODID:-//Audencia//NONSGML v1.0//EN
CALSCALE:GREGORIAN
BEGIN:VEVENT
SUMMARY:European-Aussie drinks in Sydney, Australia
DTSTART:20200130T173000
DTEND:20200130T203000
UID:596
DTSTAMP:20260425T223651
LOCATION:Sofitel Sydney Wentworth 61-101 Phillip Street Sydney - NSW 2000
DESCRIPTION:Getting Team Europe Together... with Ireland!\n \n\nSpecial Irish edition with Owen Feeney, Consul-General of Ireland in Australia.\n\n \n\nEuropean Aussie Drinks (formerly French Aussie Drinks) was created by Karine Pham and Xavier Heyman.\n\nThe event is free for everyone and everyone is welcome but registration via Eventbrite is required.\n\nOne complimentary drink is offered to the first guests (arrival before 6.30pm). In addition, $6 happy hour drinks are until 7pm on a selection of beers and wines. After 7pm, drinks are at $10 on a selection of beers and wines.\n\n\n	Background & Purpose of the European Aussie Drinks: Read More\n	Last European Aussie Drinks in November 2019: See More\n\n\nTo contact Karine and Xavier: EUAUdrinks@gmail.com\n\n \n\nREGISTER HERE!
BEGIN:VALARM
ACTION:DISPLAY
TRIGGER:-PT60M
DESCRIPTION:European-Aussie drinks in Sydney, Australia
END:VALARM
END:VEVENT
END:VCALENDAR