BEGIN:VCALENDAR
VERSION:2.0
X-WR-TIMEZONE:Europe/Paris
PRODID:-//Audencia//NONSGML v1.0//EN
CALSCALE:GREGORIAN
BEGIN:VEVENT
SUMMARY:Afterwork in Seoul, South Korea
DTSTART:20200116T193000
DTEND:20200116T210000
UID:595
DTSTAMP:20260425T205730
LOCATION:LAGRILLIA ITAEWON 200, Itaewon-ro Yongsan-gu Seoul
DESCRIPTION:Bonjour!\n\nI am happy to share the post with fixed date/place for our 2nd Audencia & Essec Alumni afterwork in Seoul, Korea!\n\nWe will have a lovely evening at 'LAGRILLIA ITAEWON'! (200, Itaewon-ro, Yongsan-gu, Seoul, Republic of Korea/ Tel. 02-790-9313)\n\nAround 30 people will participate.\n\nHope to see you there at 19:30, 16th Jan!\n\nPlease don't hesitate to contact me and/or via the Audencia Korea Alumni Facebook page.\n\nOlivia\nSeoul Alumni Amabssador
BEGIN:VALARM
ACTION:DISPLAY
TRIGGER:-PT60M
DESCRIPTION:Afterwork in Seoul, South Korea
END:VALARM
END:VEVENT
END:VCALENDAR