BEGIN:VCALENDAR
VERSION:2.0
X-WR-TIMEZONE:Europe/Paris
PRODID:-//Audencia//NONSGML v1.0//EN
CALSCALE:GREGORIAN
BEGIN:VEVENT
SUMMARY:Afterwork in Brisbane, Australia
DTSTART:20200130T180000
DTEND:20200130T210000
UID:594
DTSTAMP:20260425T210732
LOCATION:Hotel Carrington 143 Wickham Street Fortitude Valley Brisbane, QLD 4006
DESCRIPTION:Tchin-tchin!\n\nThe French-Australian Chamber of Commerce & Industry, in partnership with French Business School Alumni in Australia, France Alumni and Campus France, is pleased to invite you to its first networking evening of the year on Thursday 30 January at the Hotel Carrington.\n\nCome and join us from 6pm at 143 Wickham Street, Fortitude Valley (corner Wickham St and Gipps St). Our Tchin-Tchin events are a great way to meet people, socialise and network with FACCI members and friends in a relaxed, informal setting. Please feel free to invite your colleagues and friends!\n\nA drink on arrival will be offered by our host, Hotel Carrington. Further drinks and food will be available for purchase at the bar.\n \n\n \n\nREGISTER HERE\n\n\n\nDress code: smart casual
BEGIN:VALARM
ACTION:DISPLAY
TRIGGER:-PT60M
DESCRIPTION:Afterwork in Brisbane, Australia
END:VALARM
END:VEVENT
END:VCALENDAR