BEGIN:VCALENDAR
VERSION:2.0
X-WR-TIMEZONE:Europe/Paris
PRODID:-//Audencia//NONSGML v1.0//EN
CALSCALE:GREGORIAN
BEGIN:VEVENT
SUMMARY:Soirée festive / Festive evening
DTSTART:20200128T193000
DTEND:20200128T233000
UID:593
DTSTAMP:20260425T205722
LOCATION:Flora Danica 142 avenue des Champs Elysées 75008 Paris
DESCRIPTION:(Français)\n\nFêtons la nouvelle année ensemble !\nDémarrons 2020 autour d’une soirée festive le mardi 28 janvier à partir de 19h30 dans la brasserie Flora Danica (Paris 8ème).\n\nAu programme :\n\n- Dès 19h30 : Accueil\n- 20h00 : Verre d'accueil\n- 20h20/20h30 : Un petit mot des prises de parole\n\n\n	\n	Flavie LORRE : Présidente de l'Association des Alumni\n	\n	\n	Françoise MARCUS : Directrice des Relations Entreprises et Diplômés\n	\n	\n	Matthieu BONNAMY : Responsable Pôle Alumni\n	\n\n\n- 20h40 : Cocktail\n \n\nL'inscription est obligatoire et son bouton se trouve en haut à droite. \n\n*********\n\n(English)\n\nLet's celebrate the New Year together!\nLet's start 2020 with a festive evening on Tuesday 28 January from 7.30 pm in the Flora Danica brewery (Paris 8).\n\nOn the program:\n\n- 19h30 onwards: Welcome\n- 20h00: Welcome drink\n- 20h20/20h30: Some speeches\n\n\n	\n	Flavie Lorre: President of the Alumni Association\n	\n	\n	Françoise Marcus: Director of Corporate & Alumni Relations\n	\n	\n	Matthieu Bonnamy: Head of Alumni Center\n	\n\n\n- 20h40 : Cocktail\n \n\nRegistrations are compulsory & its button is on top to your right.\n\n\n​Questions? : nushad.merchant@audencia.com
BEGIN:VALARM
ACTION:DISPLAY
TRIGGER:-PT60M
DESCRIPTION:Soirée festive / Festive evening
END:VALARM
END:VEVENT
END:VCALENDAR