BEGIN:VCALENDAR
VERSION:2.0
X-WR-TIMEZONE:Europe/Paris
PRODID:-//Audencia//NONSGML v1.0//EN
CALSCALE:GREGORIAN
BEGIN:VEVENT
SUMMARY:Club Finance & Fi+ - L’Intelligence Artificielle, un levier humain pour les financiers ?
DTSTART:20200113T190000
DTEND:20200113T220000
UID:592
DTSTAMP:20260425T205817
LOCATION:Salons des Arts & Métiers 9 avenue d’Iéna 75016 PARIS
DESCRIPTION:Vous êtes à la recherche de solutions innovantes apportées par l’Intelligence Artificielle pour la finance d’entreprise, et vous n’avez rien trouvé. Pourtant, l’IA révolutionne tous les secteurs et tous les métiers : qu’en est-il alors pour la finance d’entreprise ?\nQuel peut être le rôle et le futur du Financier d’Entreprise avec cette (r)évolution ? Est-il Humain ? Est-il Augmenté ?\n \nPour tenter de répondre à ces questions, la prochaine Grande Conférence de FiPlus, le méta-réseau des financiers d’entreprise, aura pour thème :\n \n L’Intelligence Artificielle, un levier Humain pour les Financiers ?\n \net aura pour intervenants des experts de l’IA et professionnels de la finance d’entreprise qui seront :\n\n	Anne-France Laclide, Group CFO chez Consolis\n	Benoit Bergeret, Président de Strategies.ai, conseil de grands groupes sur l’adoption de l’IA ; Ambassadeur Honoraire de la French Tech à San Francisco ; membre fondateur du Hub France IA\n	Erwann Tison, Directeur des études de l’Institut Sapiens, \n	auteur du livre « Les robots, mon emploi et moi »\n	Mathilde Bluteau, Directrice Financière Internationale\n\nLes débats seront animés par Guy Mamou-Mani, Co-Président du Groupe Open et ancien Président du Syntec Numérique, également auteur du livre « L’apocalypse numérique n’aura pas lieu »\n \nLa conférence sera suivie d’un cocktail dinatoire résolument networking accompagnant\n \n Les Vœux FiPlus 2020\n \n\n\n	\n		\n			Avec les animations de :\n\n			\n				Chocolats ‘’La Reine Astrid’’\n				Macarons ‘’Les Prodigieux’’\n				Peindre avec l’IA : ‘’Artify’’\n			\n			\n			Et la dédicace des derniers livres de\n			\n				Erwann Tison\n				Guy Mamou-Mani\n			\n			\n		\n	\n\n \n\nCliquez ici pour vous inscrire.\nAttention, nombre de places limité
BEGIN:VALARM
ACTION:DISPLAY
TRIGGER:-PT60M
DESCRIPTION:Club Finance & Fi+ - L’Intelligence Artificielle, un levier humain pour les financiers ?
END:VALARM
END:VEVENT
END:VCALENDAR