BEGIN:VCALENDAR
VERSION:2.0
X-WR-TIMEZONE:Europe/Paris
PRODID:-//Audencia//NONSGML v1.0//EN
CALSCALE:GREGORIAN
BEGIN:VEVENT
SUMMARY:MBA networking session in Nantes
DTSTART:20200131T183000
DTEND:20200131T210000
UID:591
DTSTAMP:20260425T205721
LOCATION:Audencia Atlantic Campus - Forum 8 route de la Joneliere 44312 Nantes
DESCRIPTION:Come to the MBA speed-networking session at Audencia!\n \n\n\n	On Friday 31 January 2020\n	From 18:30 to 21:00\n	At the (historic) Audencia Atlantic Campus (in the ground floor forum)\n\n\nProgramme:\n\n18.30: Welcome message by Jean-Marc Charlot & Catherine Chassanite\n18.45: Presentation by Executive MBAs of the take homes from their learning trip to San Francisco\n19:00: Presentation by Full-Time MBAs of living in France from an international viewpoint\n19.15: Networking and refreshments\n\nConnect with fellow MBAs - Full-time, Executive and EuroMBA programmes - from current and previous years and be inspired by their experiences.\n \n*This event is for MBA students and alumni only*
BEGIN:VALARM
ACTION:DISPLAY
TRIGGER:-PT60M
DESCRIPTION:MBA networking session in Nantes
END:VALARM
END:VEVENT
END:VCALENDAR