BEGIN:VCALENDAR
VERSION:2.0
X-WR-TIMEZONE:Europe/Paris
PRODID:-//Audencia//NONSGML v1.0//EN
CALSCALE:GREGORIAN
BEGIN:VEVENT
SUMMARY:Reporté - Club Culture & Management - Spectacle vivant : Plus de culture, moins de fracture ?
DTSTART:20200115T190000
DTEND:20200115T220000
UID:590
DTSTAMP:20260425T210120
LOCATION:Fondation Ricard 12 Rue Boissy d'Anglas 75008 Paris
DESCRIPTION: \n\nREPORTE\n\n\nPour sortir du schéma de "la culture des élites pour les initié.e.s", de plus en plus d'initiatives se développent, à la fois à destination des publics dits "éloignés" de la culture, mais également en interne dans les entreprises :\n> en quoi aller au concert ou au théâtre va vous permettre de mieux vous intégrer dans votre entreprise ?\n> connaître la danse contemporaine vous rend-elle plus crédible\n> la musique que vous connaissez vous ouvre-t-elle ou vous ferme-t-elle certains cercles ?\n> enfin, avoir accès à la culture vous rend-il citoyen.e à part plus entière ?\n\n\nÉchangeons avec des acteurs clés du secteur artistique et culturel qui nous révélerons les effets réels ou imaginaires de l'immersion culturelle :\n> acteurs de la mobilité sociale à échelle nationale\n> producteurs artistiques d'événements qui ont changé le visage de leur environnement \n> professionnels engagés et mobiles pour répondre à cette question d'avenir et aux enjeux éternels\n\nModérateurs\n\n\n	\n	Donatienne HANTIN CHARBAUT\n	L'ESPRIT JAZZ - FESTIVAL JAZZ À SAINT-GERMAIN-DES-PRÉS PARIS/Co-fondatrice et Directrice de Production, Responsable Spectacle Vivant c&m\n	\n\n\nPour s'inscrire : https://bit.ly/34mowjT
BEGIN:VALARM
ACTION:DISPLAY
TRIGGER:-PT60M
DESCRIPTION:Reporté - Club Culture & Management - Spectacle vivant : Plus de culture, moins de fracture ?
END:VALARM
END:VEVENT
END:VCALENDAR