BEGIN:VCALENDAR
VERSION:2.0
X-WR-TIMEZONE:Europe/Paris
PRODID:-//Audencia//NONSGML v1.0//EN
CALSCALE:GREGORIAN
BEGIN:VEVENT
SUMMARY:EuroMBA alumni in Amsterdam
DTSTART:20170715T130000
DTEND:20170715T235900
UID:59
DTSTAMP:20260425T205732
LOCATION:Cobra Café BV Hobbemastraat 18 1071 ZB, Amsterdam +31 20 47 00 111
DESCRIPTION:July 15 is the day for EuroMBA alumni to be in Amsterdam!\n\nJoin us for catching up, then going to the Bols Distillery for a tour, a cocktail, some interesting presentations on Sales Excellence (Remco) and Big Data applications in MNC (Yves), followed by a cocktail-mixing-workshop and finally dinner and Amsterdam's night life.\n\nLooking very much forward to seeing you there.\n\n\n\nIf you are a EuroMBA alum and would like to attend, send a message to Remco: r.rijnhart@salesvalue.com
BEGIN:VALARM
ACTION:DISPLAY
TRIGGER:-PT60M
DESCRIPTION:EuroMBA alumni in Amsterdam
END:VALARM
END:VEVENT
END:VCALENDAR