BEGIN:VCALENDAR
VERSION:2.0
X-WR-TIMEZONE:Europe/Paris
PRODID:-//Audencia//NONSGML v1.0//EN
CALSCALE:GREGORIAN
BEGIN:VEVENT
SUMMARY:Conférence [Nantes] "Collaboration dans les espaces de coworking : promesse ou mirage ?"
DTSTART:20200128T183000
DTEND:20200128T200000
UID:589
DTSTAMP:20260425T210024
LOCATION:MédiaCampus 41, bd de la Prairie au Duc 44200 Nantes
DESCRIPTION:\n\nLes espaces de coworking et, plus largement, les espaces de travail propices au développement de dynamiques collaboratives sont en vogue. La France compte près de 1800 « tiers-lieux ».\n\nEn juin dernier, le gouvernement a lancé le programme « Nouveaux liens, nouveaux lieux » doté d’un fonds de 45 millions d’euros pour en favoriser le développement. La mission « Coworking : Territoire, travail et numérique » recommande la professionnalisation des animateurs de ces lieux.\n\nCes signaux renforcent l’intérêt et les attentes que suscitent ces lieux porteurs de la promesse de collaborations fructueuses : Comment les rencontres s’opèrent-elles ? Qu’est-ce qui les favorise ? Le lieu doit-il développer un programme pour les organiser ou, au contraire, se dégager de cette contrainte ?…\n\nNos intervenants discuteront les pratiques de communication qui stimulent les collaborations entre les usagers de ces lieux où ils sont invités à « habiter » comme « chez eux ».\n\n \n\n	\n	INTERVENANTS :   \n	\n\n\n\n\n\nLudivine Chaillou, Maire chez le Village by CA Atlantique Vendée.\n\n\n\n\nCarole de Coninck, Fondatrice et Directrice de Vacouva.\n\n\nYann “shalf” Heurtaux, Lead Concierge, DOJO Nantes & Chargé de mission Coworking, Le Palace (Nantes), fondateur Hackuarium (Lausanne, Suisse).\n\n\n\n\n\n\nAdrien Poggetti (GE 04), Directeur La Cantine/ La French Tech Nantes.\n \n \n\n \n\n\n\n \n\n	\n	MODERATION :   \n	\n\n\n\n\n\n\nOdile Vallée (GE 96), enseignant-chercheur Audencia SciencesCom\n\n \n\n 
BEGIN:VALARM
ACTION:DISPLAY
TRIGGER:-PT60M
DESCRIPTION:Conférence [Nantes] "Collaboration dans les espaces de coworking : promesse ou mirage ?"
END:VALARM
END:VEVENT
END:VCALENDAR