BEGIN:VCALENDAR
VERSION:2.0
X-WR-TIMEZONE:Europe/Paris
PRODID:-//Audencia//NONSGML v1.0//EN
CALSCALE:GREGORIAN
BEGIN:VEVENT
SUMMARY:Audencian gathering in San Francisco
DTSTART:20200111T193000
DTEND:20200111T210000
UID:588
DTSTAMP:20260425T205848
LOCATION:Wipeout Bar & Grill PIER 39 A-O2 San Francisco CA 94133
DESCRIPTION:Come network with Bay Area Alumni and mingle with current Audencia students on their Learning Expedition – CES/Silicon Valley and enjoy views from the wide-open patio and outdoor bar with a roaring fire pit.\n\nDate: Saturday 11 January 2020\nTime: from 7:00 - 9:30pm\nPLEASE NOTE THE VENUE IS NOW: Wipeout Bar & Grill\n\n 
BEGIN:VALARM
ACTION:DISPLAY
TRIGGER:-PT60M
DESCRIPTION:Audencian gathering in San Francisco
END:VALARM
END:VEVENT
END:VCALENDAR