BEGIN:VCALENDAR
VERSION:2.0
X-WR-TIMEZONE:Europe/Paris
PRODID:-//Audencia//NONSGML v1.0//EN
CALSCALE:GREGORIAN
BEGIN:VEVENT
SUMMARY:Audencian gathering in Las Vegas
DTSTART:20200109T193000
DTEND:20200109T213000
UID:587
DTSTAMP:20260425T205721
LOCATION:Treasure Island Breeze Bar 3300 Las Vegas Blvd S Las Vegas NV 89109
DESCRIPTION:Calling all Audencia Alumni at the CES Las Vegas! \n\nCome meet us for some appetizers and drinks at to meet with current Audencia students on their Learning Expedition – CES/Silicon Valley. \n\nAlumni – come ready to share your experiences of the day at the CES and to network with alumni and meet future alumni like you who are influencing our technology landscape.\n\nWhether you live in Las Vegas full-time or are passing through for the CES, this will be a great opportunity to get together, share impressions of the event and speed up those business connections.\n \n\n	Date: Thursday 9 January\n	Time: 7.30pm\n	Venue: The Treasure Island Breeze Bar\n	Address: 3300 Las Vegas Blvd S, Las Vegas, NV 89109\n
BEGIN:VALARM
ACTION:DISPLAY
TRIGGER:-PT60M
DESCRIPTION:Audencian gathering in Las Vegas
END:VALARM
END:VEVENT
END:VCALENDAR