BEGIN:VCALENDAR
VERSION:2.0
X-WR-TIMEZONE:Europe/Paris
PRODID:-//Audencia//NONSGML v1.0//EN
CALSCALE:GREGORIAN
BEGIN:VEVENT
SUMMARY:Afterwork in Hamburg, Germany
DTSTART:20200116T190000
DTEND:20200116T210000
UID:586
DTSTAMP:20260425T205820
LOCATION:Café Le BeauVoisin Ulmenstr. 2 22299 Hamburg
DESCRIPTION:On the occasion of their learning trip to Hamburg, students of the MS APTE (energy transition) and MS MASC (purchasing & supply chain) will be organising an informal afterwork with alumni of the city.\n\nThe event will be hosted by Isabelle Guillot-Vignot (GE 08). Come and join her, along with Audencia students, staff and alumni:\n \n\n	Thursday 16 January 2020\n	From 19:00 to 21:00\n	Venue: Café Le BeauVoisin\n	Address: Ulmenstr. 2, 22299 Hamburg\n
BEGIN:VALARM
ACTION:DISPLAY
TRIGGER:-PT60M
DESCRIPTION:Afterwork in Hamburg, Germany
END:VALARM
END:VEVENT
END:VCALENDAR