BEGIN:VCALENDAR
VERSION:2.0
X-WR-TIMEZONE:Europe/Paris
PRODID:-//Audencia//NONSGML v1.0//EN
CALSCALE:GREGORIAN
BEGIN:VEVENT
SUMMARY:Soirée festive - dégustation vins [Nantes]
DTSTART:20200116T191500
DTEND:20200116T230000
UID:585
DTSTAMP:20260425T205901
LOCATION:Label Escale 57, rue Maréchal Joffre 44000 Nantes
DESCRIPTION:\n\nDégustation vins / Galette des rois\n\n\n\nFêtons la nouvelle année ensemble !\nDémarrons 2020 autour d'une soirée festive avec la découverte du vignoble Famille Lieubeau au Label Escale, lieu de co-working tendance dans le centre de Nantes, le jeudi 16 janvier.\n \n- - - - - - - - -\nUn programme savoureux vous attend :\n\n\n	Dégustation vins :\n	Marie Lieubeau (GE 11) vous fera découvrir les vins de son vignoble familial et vous expliquera ses spécificités.\n\n \n\n\n	Chaire Entrepreneuriat Familial & Société * :\n	Marie ayant repris le vignoble familial, Frédéric Robin (GE 97) profitera de cette occasion pour vous en dire plus sur cette chaire d'Audencia, seul centre de recherche sur l’entrepreneuriat familial en France. \n\n​\n\n\n	Cocktail dinatoire et galette des rois​\n\n\n \nAnciens ou nouvellement Nantais, vous êtes les bienvenus !\nContact pour toute question : audenciaalumni@audencia.com\n\n \n\n* La chaire Entrepreneuriat Familial & Société est lancée en 2013 sous l’impulsion de l’entreprise familiale Fleury Michon, des grands groupes EY et CIC Ouest, en partenariat avec le Medef Vendée. Fort de cette dynamique, Europcar Atlantique et la Région Pays de la Loire ont rejoint la chaire en tant que mécènes. \nElle constitue un lieu de recherche utile, de partage des savoirs et des bonnes pratiques au service des entreprises familiales. Sa mission est de contribuer à consolider la pérennité et de soutenir la croissance des entreprises familiales en développant des travaux de recherche, des programmes de formation et des événements dédiés en associant la dimension académique à l’expertise et à l’expérience des acteurs de terrain.\n\n\n 
BEGIN:VALARM
ACTION:DISPLAY
TRIGGER:-PT60M
DESCRIPTION:Soirée festive - dégustation vins [Nantes]
END:VALARM
END:VEVENT
END:VCALENDAR