BEGIN:VCALENDAR
VERSION:2.0
X-WR-TIMEZONE:Europe/Paris
PRODID:-//Audencia//NONSGML v1.0//EN
CALSCALE:GREGORIAN
BEGIN:VEVENT
SUMMARY:Club Activités Culturelles - Chinese Dinner
DTSTART:20191129T193000
DTEND:20191129T213000
UID:584
DTSTAMP:20260425T210145
LOCATION:Le Pont de Yunnan 滋味云南 15 Rue Notre Dame de Lorette 75009 Paris
DESCRIPTION:Nancy, IMM 18 & Cultural Activities Club's Ambassador, is organizing an authentic Chinese dinner this Friday, 29th November.\n\nThe restaurant is small. So seating is limited & registrations are cumpulsory.\n\nBon appétit ! :)\n\n 
BEGIN:VALARM
ACTION:DISPLAY
TRIGGER:-PT60M
DESCRIPTION:Club Activités Culturelles - Chinese Dinner
END:VALARM
END:VEVENT
END:VCALENDAR