BEGIN:VCALENDAR
VERSION:2.0
X-WR-TIMEZONE:Europe/Paris
PRODID:-//Audencia//NONSGML v1.0//EN
CALSCALE:GREGORIAN
BEGIN:VEVENT
SUMMARY:MS MOS - Afterwork
DTSTART:20191210T193000
DTEND:20191210T220000
UID:582
DTSTAMP:20260425T210011
LOCATION:Le Max Rue de la Petite Truanderie 75001 Paris
DESCRIPTION:Les étudiants du MS MOS organise leur 1er afterwork le mardi 10 décembre à partir de 19h30 dans le bar Le Max (Paris 1).\n\nSoyez nombreux à venir ! Le bouton d'inscription se trouve en haut à droite. 
BEGIN:VALARM
ACTION:DISPLAY
TRIGGER:-PT60M
DESCRIPTION:MS MOS - Afterwork
END:VALARM
END:VEVENT
END:VCALENDAR