BEGIN:VCALENDAR
VERSION:2.0
X-WR-TIMEZONE:Europe/Paris
PRODID:-//Audencia//NONSGML v1.0//EN
CALSCALE:GREGORIAN
BEGIN:VEVENT
SUMMARY:#NegoTraining in Munich!
DTSTART:20191217T180000
DTEND:20191217T220000
UID:581
DTSTAMP:20260425T205736
LOCATION:Berg-am-Laim-Str 110 Munich (accessible par le tram 21 Schlüsselbergstraße ou le U2 Josephsburg)
DESCRIPTION:Réservez la date dans vos agendas !\n\nCrée à Nantes par la chaire RSE Audencia il y a quelques années, le négotraining s'exporte à Munich et invite toutes les femmes souhaitant participer à un atelier interactif sur la négociation dans le contexte de l'entreprise.\n\n \nINSCRIPTION\nVous aurez un questionnaire à remplir en amont pour valider votre inscription!\n\n\nPour plus d'informations sur #NegoTraining\nNous nous retrouverons pour un atelier gratuit de 2 à 3 heures pour finir sur un afterwork au féminin.\nInscrivez-vous vite sur Together ! Les places sont limitées.\n\nA bientôt!\nAmandine
BEGIN:VALARM
ACTION:DISPLAY
TRIGGER:-PT60M
DESCRIPTION:#NegoTraining in Munich!
END:VALARM
END:VEVENT
END:VCALENDAR