BEGIN:VCALENDAR
VERSION:2.0
X-WR-TIMEZONE:Europe/Paris
PRODID:-//Audencia//NONSGML v1.0//EN
CALSCALE:GREGORIAN
BEGIN:VEVENT
SUMMARY:Breakfast Club - Alumni Breakfast Meet #3
DTSTART:20200128T083000
DTEND:20200128T093000
UID:580
DTSTAMP:20260425T210008
LOCATION:Audencia Campus Paris 95 rue Falguière 75015 Paris
DESCRIPTION:C'est le moment du 3e rendez-vous petit-déjeuner !\n\nVenez partager un petit moment de douceur et d’échange avec les étudiants et nous autour d’une boisson chaude, des viennoiseries et des fruits avant de démarrer votre journée le mardi 28 janvier de 8h30 à 9h30.\n\nNe soyez pas timides… on vous attend nombreux !\n\nLe personnel du Campus Paris\n\n*****\n\nIt's time for the second breakfast meeting!\n\nCome and share a moment of sweetness and exchange with the students and us over a hot drink, pastries and fruits before starting your day on Tuesday, 28th January from 8:30am to 9:30 am.\n\nDon't be shy... we're expecting a lot of you!\n\nThe Paris Campus staff
BEGIN:VALARM
ACTION:DISPLAY
TRIGGER:-PT60M
DESCRIPTION:Breakfast Club - Alumni Breakfast Meet #3
END:VALARM
END:VEVENT
END:VCALENDAR