BEGIN:VCALENDAR
VERSION:2.0
X-WR-TIMEZONE:Europe/Paris
PRODID:-//Audencia//NONSGML v1.0//EN
CALSCALE:GREGORIAN
BEGIN:VEVENT
SUMMARY:Webinar: How to find your hidden productivity and get more done in your day
DTSTART:20170712T140000
DTEND:20170712T150000
UID:58
DTSTAMP:20260425T205734
LOCATION:Online 12th July 2017 14:00-15:00 Paris time
DESCRIPTION:\n\nIn this webinar Ian Luckett shares with you the fundamentals of finding your hidden minutes in your day. Considering all the distractions and demands put upon us in daily life in 2017, Ian explains some simple steps and a formula to help us navigate these obstacles and get the balance right between your own  work life, your home life and your MBA.\n\nTo register for this free webinar please log on to the AMBA Community >>\nAbout Ian Luckett\nAfter a 20-year career at a senior level in the corporate world, Ian has set up Innovate to Success, with one main objective – To help people in business become more productive all while reducing unhealthy stress.\nHe understands and has encountered the level of overwhelm and constant obstacles that you encounter in the business environment and he is an expert in corporate personal productivity strategies.\n\nExecuted correctly these strategies will help you add extra value to your personal brand and your organisation, which will ultimately fast track your career.\n\nHe lives in Bedfordshire, UK, and has been married for 22 years to his very supportive wife and has two teenage sons. In addition to running his company, he also runs a small property portfolio all alongside giving a considerable amount of his time back to his local community.\n\nPlease note that you must be an AMBA Member to register, if you have any questions about your eligibility, or how to access the Community, please contact membership@mbaworld.com\n\n\n\n\n\nLocation: Online\nDate: 12 July 2017\nTime: 13.00 to 14.00\nIs this event for me: This event is free for AMBA members to attend but registration is required. To register please log on to the Community using the link above.\n\n\n\n\n\n\nIf you have any queries related to the event please get in touch with:\n\nVictor Hedenberg\nClient Relations Executive\n+44 (0)20 7246 2682 | v.hedenberg@mbaworld.com\n\n\n\n\n\n\nGraduate members:Free\nStudent members:Free\n\n\n\n\nRead more here
BEGIN:VALARM
ACTION:DISPLAY
TRIGGER:-PT60M
DESCRIPTION:Webinar: How to find your hidden productivity and get more done in your day
END:VALARM
END:VEVENT
END:VCALENDAR