BEGIN:VCALENDAR
VERSION:2.0
X-WR-TIMEZONE:Europe/Paris
PRODID:-//Audencia//NONSGML v1.0//EN
CALSCALE:GREGORIAN
BEGIN:VEVENT
SUMMARY:Club Activités Culturelles - Galette des Rois
DTSTART:20200108T190000
DTEND:20200108T203000
UID:579
DTSTAMP:20260425T205954
LOCATION:Audencia Campus Paris 95 rue Falguière 75015 Paris
DESCRIPTION:Nous avons le plaisir de vous inviter pour tirer les rois. Les galettes seront prêtes, avec frangipane, fèves, et couronnes.\n\nVenez partager ce moment traditionnel et surtout de la joie et de la bonne humeur le mercredi 8 janvier à 19h sur le campus Paris.\n\nAu plaisir de vous y retrouver.\n\n**************\n\nWe are pleased to invite you to crown some kings. The pancakes will be ready, with frangipane, beans, and crowns.\n\nCome and share this traditional moment and especially the joy and good humour on Wednesday, January 8 at 7pm on the Paris campus.\n\nWe look forward to seeing you there.
BEGIN:VALARM
ACTION:DISPLAY
TRIGGER:-PT60M
DESCRIPTION:Club Activités Culturelles - Galette des Rois
END:VALARM
END:VEVENT
END:VCALENDAR