BEGIN:VCALENDAR
VERSION:2.0
X-WR-TIMEZONE:Europe/Paris
PRODID:-//Audencia//NONSGML v1.0//EN
CALSCALE:GREGORIAN
BEGIN:VEVENT
SUMMARY:Catch-up in Ho Chi Minh City, Vietnam
DTSTART:20191124T183000
DTEND:20191124T210000
UID:577
DTSTAMP:20260426T001837
LOCATION:Belgo Belgian Craft Beer Brewery (Đa Kao) 159A Nguyễn Văn Thủ, Đa Kao District 1 Ho Chi Minh City Vietnam
DESCRIPTION:Catch up with the latest news from Audencia!\nIt's not an afterwork as it's taking place on Sunday 24 November at 18:30.\nCome and join Audencia's Professor Eric Maton for an informal drink at the Belgo Belgian Craft Beer Brewery.\n\nRegister here on Together or contact the Facebook group.
BEGIN:VALARM
ACTION:DISPLAY
TRIGGER:-PT60M
DESCRIPTION:Catch-up in Ho Chi Minh City, Vietnam
END:VALARM
END:VEVENT
END:VCALENDAR