BEGIN:VCALENDAR
VERSION:2.0
X-WR-TIMEZONE:Europe/Paris
PRODID:-//Audencia//NONSGML v1.0//EN
CALSCALE:GREGORIAN
BEGIN:VEVENT
SUMMARY:Table ronde « Une ville sans voiture » [Nantes]
DTSTART:20191119T183000
DTEND:20191119T200000
UID:576
DTSTAMP:20260425T205902
LOCATION:Audencia Atlantic Campus 8, route de la Jonelière 44300 Nantes
DESCRIPTION:\nL’Alliance Centrale-Audencia-Ensa Nantes vous invite à la table ronde « Une ville sans voiture » de la 4e édition du Citylab Alliance. \nLa table ronde d’inauguration se déroulera mardi 19 novembre de 18h30 à 20h à Audencia, elle sera animée par Guillaume Joly, co-fondateur du site Les Horizons. \nLes invités sont : \n•    Annie-Claude Thiolat, Présidente de l’association Place au vélo \n•    Bénédicte Levionnais, Directrice du Département des Déplacements de Nantes Métropole\n•    Pascal Leroy, Directeur performance et innovation Semitan \n•    Cédric Seureau, Expert mobilité Orange Labs \n•    Florian Yann Lardic, Directeur Urby \n \n\nPour vous inscrire (jusqu'au jour J) :\nhttps://www.eventbrite.fr/e/billets-citylab-alliance-table-ronde-ville-sans-voiture-75269265399\n\n\n\nQu'est-ce que le Citylab Alliance ?\nCe sont 110 étudiants issus de programmes Master et Mastères Spécialisés® des 3 écoles qui auront 3 jours au format Hackathon pour répondre à des problématiques proposées par des structures partenaires. Cette année, ils devront travailler sur le thème « Les mobilités dans la ville ».
BEGIN:VALARM
ACTION:DISPLAY
TRIGGER:-PT60M
DESCRIPTION:Table ronde « Une ville sans voiture » [Nantes]
END:VALARM
END:VEVENT
END:VCALENDAR