BEGIN:VCALENDAR
VERSION:2.0
X-WR-TIMEZONE:Europe/Paris
PRODID:-//Audencia//NONSGML v1.0//EN
CALSCALE:GREGORIAN
BEGIN:VEVENT
SUMMARY:In conversation with Barack Obama in Singapore
DTSTART:20191216T113000
DTEND:20191216T130000
UID:574
DTSTAMP:20260425T205818
LOCATION:Singapore EXPO 1 Expo Drive Singapore 486150
DESCRIPTION:Would you like to enjoy an afternoon of lively discussion led by the inspirational former US President Barack Obama?\n\nAMBA, the Association of MBAs, has teamed up with The Growth Faculty to offer AMBA members* up to $100 off the ticket price.\n\nIn times of great challenge and change, President Barack Obama’s leadership ushered in a stronger economy, a more equal society, a nation more secure at home and more respected around the world. Drawing on the themes that shaped his presidency, President Obama will share remarks on his time in office and his thoughts on leadership in the world.\n\n \nFor more information and to purchase tickets\n\n\n	Date: Monday 16 December\n	Time: 11:30am to 1:00pm\n	Venue: Singapore Expo, 1 Expo Drive, Singapore 486150\n\n\n*AMBA membership\nDid you graduate from an AMBA-accredited programme at Audencia?\nStudents and graduates of AMBA-accredited programmes (Audencia's Grande Ecole and MBA (full-time, executive part-time & EuroMBA) programmes are eligible for free AMBA membership, which provides a range of exclusive benefits. If you have any questions about AMBA membership please visit www.associationofmbas.com/students-and-graduates or contact the team via membership@associationofmbas.com
BEGIN:VALARM
ACTION:DISPLAY
TRIGGER:-PT60M
DESCRIPTION:In conversation with Barack Obama in Singapore
END:VALARM
END:VEVENT
END:VCALENDAR