BEGIN:VCALENDAR
VERSION:2.0
X-WR-TIMEZONE:Europe/Paris
PRODID:-//Audencia//NONSGML v1.0//EN
CALSCALE:GREGORIAN
BEGIN:VEVENT
SUMMARY:MOS - Table ronde « Les sportifs professionnels en reconversion, quelles opportunités pour les entreprises ? »
DTSTART:20191203T183000
DTEND:20191203T203000
UID:571
DTSTAMP:20260425T205848
LOCATION:Audencia 95 rue Falguière 75015 Paris
DESCRIPTION:\nEn 2013, quatre sportifs de haut niveau sur dix gagnaient moins de 500€ par mois. La plupart d’entre eux, soumise à la précarité et à l’incertitude du milieu sportif, ne peut être garantie d’une stabilité financière à long terme. \nDès lors, la préparation de la reconversion de ces 6 000 sportifs de haut niveau est fondamentale. Mais comment ces profils atypiques, construits hors des sentiers académiques et universitaires, peuvent-ils attirer l’oeil des recruteurs ?\n\nCet enjeu de société sera le thème d’une table ronde organisée par le MS MOS dans les locaux parisiens d’Audencia (Paris 15e). Le 3 décembre prochain, à partir de 19 heures, la question de la reconversion professionnelle des sportifs sera développée autour de trois axes :\n- Le pacte de performance : bilan, évolutions et points d’amélioration…\n- Quelle valeur ajoutée le sportif peut-il apporter à l’entreprise ?\n- Comment le sportif peut-il valoriser ses compétences et son image ?\n\nPour répondre à ces problématiques, des intervenants reconnus dans le milieu du sport viendront apporter leur expertise pour saisir tous les enjeux du sujet et entrevoir de possibles évolutions :\n- Gwendoline Plisson (Responsable de la reconversion à l’INSEP)\n- Eddy Ferhi (ancien international français de hockey sur glace, Senior Sports Marketing Manager chez ASICS)\n- Nicolas Martin (ancien rugbyman professionnel, responsable sponsoring de la RATP)\n- Véronique Barré (Fondatrice de Trajectoires performance, Directrice de Collectif Sports)\n\nInscrivez-vous gratuitement et rapidement en cliquant sur le bouton en haut à droite.
BEGIN:VALARM
ACTION:DISPLAY
TRIGGER:-PT60M
DESCRIPTION:MOS - Table ronde « Les sportifs professionnels en reconversion, quelles opportunités pour les entreprises ? »
END:VALARM
END:VEVENT
END:VCALENDAR