BEGIN:VCALENDAR
VERSION:2.0
X-WR-TIMEZONE:Europe/Paris
PRODID:-//Audencia//NONSGML v1.0//EN
CALSCALE:GREGORIAN
BEGIN:VEVENT
SUMMARY:Christmas party in Tokyo, Japan
DTSTART:20191215T120000
DTEND:20191215T170000
UID:570
DTSTAMP:20260425T210046
LOCATION:1-chōme-6-3 Yaesu Chuo City, Tōkyō-to 103-0028
DESCRIPTION:HoHoHo Audencia Alumni community\n\nHave you been good this year? If so Santa will have some presents for you!\n\nLet’s meet to greet him and us all on December 15th, from 12 to 17, close to Tokyo station: 1030028 tokyo chuoku hacchobori yaesu 1-6-3,  4th floor of the “shinshu miso hachobori building” (信州味噌八重洲ビル 4階) We care about your health, no elevator!!!\n\nMap here: http://goo.gl/VcGYJ0\n\nPrice is 1500 per adult and 500 yen per child above 3yo, depending on attendance the price might change a little. Please bring food and drinks to share! There is a kitchen and it is possible to cook.\n\nLooking forward to celebrating together!\nPlease reply by email for attendance planning: audenciaalumnijapan@gmail.com\n\nTeam Audencia Alumni Japan\n 
BEGIN:VALARM
ACTION:DISPLAY
TRIGGER:-PT60M
DESCRIPTION:Christmas party in Tokyo, Japan
END:VALARM
END:VEVENT
END:VCALENDAR