BEGIN:VCALENDAR
VERSION:2.0
X-WR-TIMEZONE:Europe/Paris
PRODID:-//Audencia//NONSGML v1.0//EN
CALSCALE:GREGORIAN
BEGIN:VEVENT
SUMMARY:Beaujolais Nouveau in Hanoi, Vietnam
DTSTART:20191121T180000
DTEND:20191121T210000
UID:569
DTSTAMP:20260425T205838
LOCATION:Garden of French Embassy in Vietnam 49 Ba Trieu Hoan Kiem Hanoi
DESCRIPTION:The world-famous “Beaujolais Nouveau” – translated as the “new Beaujolais wine”, is named for a French celebration, which takes place on the third Thursday of November every year. This tradition marks the end of annual grape harvest and the release of the “Beaujolais” - a fresh and fruity red wine. It is often celebrated in France with fireworks, music and festivals. \n\nOn this occasion, the French Chamber of Commerce and Industry in Vietnam (CCIFV) will cherish the tradition, promoting and sharing the French lifestyle and culture; which helps to strengthen partnerships among the local, the French and other foreign business communities in Vietnam. \n\nFood and drinks booths located along the sides will leave space in the middle to welcome picnic tables, live music, and a stage with dance floor to dance the night away. Guests will also have the opportunity to try their luck to win many other prizes at the Lucky Draw.\n\nDate: Thursday, November 21st 2019\nTime: From 6pm\nVenue: Garden of French Embassy in Vietnam, 49 Ba Trieu, Hoan Kiem, Hanoi\n\nTickets will be available soon!\n\nPrice:\n\n	From 24/10 to 20/11: 300,000 VND (includes 02 glasses of wine)\n	On 21/11 (receive tickets on site): 400,000 VND (includes 02 glasses of wine)\n\n\nFor further information, please contact:\n\n	Mrs. Sophie MERMAZ - sophie.mermaz@ccifv.org - (T): +84 4 3715 2229 ext 110.\n	Ms. Tram Anh LE - tramanh.le@ccifv.org - (T): +84 4 3715 2229 ext 112.\n\n \n\nHow to buy tickets ? \n\nOnline: https://bit.ly/2Q6Mbl7\nOffline :\n\n	Bureau de la CCIFV Hanoi: Horison Tower, 40 Cat Linh, Dong Da.\n	Saint-Honoré : 5 Xuan Dieu, Tay Ho | 20 Lancaster Nui Truc, Ba Dinh | 24 Trang Tien, Hoan Kiem.\n	La Verticale : 19 Ngo Van So, Hoan Kiem.\n	Maison Vie : 28 Tang Bat Ho, Hai Ba Trung.\n	Savoor : 46 To Ngoc Van, Tay Ho | 112G Mai Hac De, Hai Ba Trung.\n	Press Club : 59A Ly Thai To, Hoan Kiem.\n	Malthop’s Stores : 72 Trung Hoa, Cau Giay | 88 Dao Tan, Ba Dinh | 246 Hoang Ngan, Cau Giay | 43 Phan Chu Trinh, Hoan Kiem.\n
BEGIN:VALARM
ACTION:DISPLAY
TRIGGER:-PT60M
DESCRIPTION:Beaujolais Nouveau in Hanoi, Vietnam
END:VALARM
END:VEVENT
END:VCALENDAR