BEGIN:VCALENDAR
VERSION:2.0
X-WR-TIMEZONE:Europe/Paris
PRODID:-//Audencia//NONSGML v1.0//EN
CALSCALE:GREGORIAN
BEGIN:VEVENT
SUMMARY:Club Musique - Afterwork avec MFM
DTSTART:20191127T180000
DTEND:20191127T220000
UID:568
DTSTAMP:20260425T205947
LOCATION:Le Workshop 173 rue Saint Martin 75003 Paris
DESCRIPTION:De la musique avant toute chose ! \n\n\nVous êtes parisien.ne ou de passage à Paris le mercredi 27 novembre ? Vous travaillez dans la musique ou plus globalement dans la culture ?\n\nLes étudiants du Master Spécialisé Management de la Filière Musicale (MS MFM) organisent leur 1er Afterwork en musique et seront ravis de vous rencontrer dans le bar "Le Workshop" (Paris 3).\n\nAlors, inscrivez-vous vite !
BEGIN:VALARM
ACTION:DISPLAY
TRIGGER:-PT60M
DESCRIPTION:Club Musique - Afterwork avec MFM
END:VALARM
END:VEVENT
END:VCALENDAR