BEGIN:VCALENDAR
VERSION:2.0
X-WR-TIMEZONE:Europe/Paris
PRODID:-//Audencia//NONSGML v1.0//EN
CALSCALE:GREGORIAN
BEGIN:VEVENT
SUMMARY:Afterwork thématique à Nantes "L’entrepreneuriat : de l’idée à l’action"
DTSTART:20191205T190000
DTEND:20191205T203000
UID:567
DTSTAMP:20260425T205849
LOCATION:Audencia Executive Center La Géraudière Rue Pierre Adolphe Bobierre Nantes
DESCRIPTION:L’entrepreneuriat : de l’idée à l’action\nTrois diplômés de la promotion Executive MBA 2017/2018 qui se sont tournés vers l’entrepreneuriat partageront leur expériences lors d'un afterwork entrepreneurial le jeudi 5 décembre à partir de 19h à l'Executive Center:\n \n\n	Laurent DROUARD\n	Jean-Gabriel MARTIN\n	Grégory BOUCHART\n\n\nIl viendront non pas présenter leur nouveau business, ni faire un cours sur l’entrepreneuriat. Ils feront un témoignage/retour d’expérience sur « de l’idée d’entreprendre à l’action », comment on se lance, le cheminement pour se détourner du salariat vers l’entrepreneuriat.\n \n\n \n\n\nAu programme:\n\n	19:00-20:00 Chaque diplômé présentera son projet (20 minutes) suivi d'une session Q&A (10 minutes)\n	20:00-20:30 Echange informel autour d'un verre\n
BEGIN:VALARM
ACTION:DISPLAY
TRIGGER:-PT60M
DESCRIPTION:Afterwork thématique à Nantes "L’entrepreneuriat : de l’idée à l’action"
END:VALARM
END:VEVENT
END:VCALENDAR