BEGIN:VCALENDAR
VERSION:2.0
X-WR-TIMEZONE:Europe/Paris
PRODID:-//Audencia//NONSGML v1.0//EN
CALSCALE:GREGORIAN
BEGIN:VEVENT
SUMMARY:ANNULE - Invitation - Rejoignez le Club Audencia des Dirigeants de l’Ouest !
DTSTART:20191205T190000
DTEND:20191205T213000
UID:566
DTSTAMP:20260425T210008
LOCATION:Nantes, Atlantic Campus
DESCRIPTION:\n	\n		\n			\n			En tant que diplômé d’Audencia, nous vous invitons à la prochaine soirée du Club Audencia des Dirigeants de l’Ouest qui se tiendra le 5 décembre prochain dès 19h.\n			\n			La Learning Expedition au CES de Las Vegas et dans la Silicon Valley est un des projets à l'initiative du club CADO. \n			\n			En Janvier dernier, 6 étudiants d’Audencia passionnées par le digital et l’entrepreneuriat se sont envolés pour une semaine d’inspiration dans le grand ouest américain, accompagnés par des diplômés de l’Ecole.\n			\n			La transmission entre étudiants et alumni toujours au coeur de l’ADN du club et fort de cette première édition, la deuxième promotion d’étudiants, qui s’envolera pour les USA en janvier prochain, vient d’être sélectionnée. ﻿Venez les rencontrer le 5 décembre ! ﻿\n			\n				\n					\n						\n						\n							\n								\n									Programme\n									19h: Accueil \n									19h30: Présentation du club, rencontre avec les étudiants sélectionnés pour la 2ème Learning Expedition et pitchs de leurs projets entrepreneuriaux\n									20h30: networking entre dirigeants autour d'un cocktail dinatoire\n									 \n									Nous serions très heureux de vous compter parmi nous le 5 décembre prochain.\n									Au plaisir de se retrouver très prochainement,\n									 \n									Les membres fondateurs :\n									Matthieu Bourdeaut (GE 99), Sylvie Casenave-Péré (GE 81), Yves Krotoff (GE 77),\n									Françoise Macé (GE 79), Françoise Marcus (Audencia) et Thierry Place (Exec-MBA 07).\n								\n							\n						\n						\n					\n				\n			\n			 \n			 \n			\n				\n					\n						\n						\n							\n								\n									Créé il y a maintenant 2 ans maintenant, le Club Audencia des Dirigeants de l’Ouest (CADO) a pour vocation de :\n\n									\n										favoriser les échanges entre dirigeants diplômés d’Audencia\n										accompagner les étudiants dans leur parcours et l’Ecole dans son développement\n										partager des bonnes pratiques\n									\n									\n								\n							\n						\n						\n					\n				\n			\n			\n			 \n		\n	\n
BEGIN:VALARM
ACTION:DISPLAY
TRIGGER:-PT60M
DESCRIPTION:ANNULE - Invitation - Rejoignez le Club Audencia des Dirigeants de l’Ouest !
END:VALARM
END:VEVENT
END:VCALENDAR