BEGIN:VCALENDAR
VERSION:2.0
X-WR-TIMEZONE:Europe/Paris
PRODID:-//Audencia//NONSGML v1.0//EN
CALSCALE:GREGORIAN
BEGIN:VEVENT
SUMMARY:Club ARMs - Dîner avec l'Association LARGE
DTSTART:20191112T193000
DTEND:20191112T220000
UID:565
DTSTAMP:20260425T223845
LOCATION:Caves Fillot jouxtant le restaurant « les Foudres de Bacchus » 22 av Raspail 94250 Gentilly
DESCRIPTION:Chers membres du Club ARMs,\n\nNotre prochain dîner avec l'Association LARGE se tiendra le mardi 12 novembre 2019 aux Caves Fillot jouxtant le restaurant « les Foudres de Bacchus », 22 av Raspail – 94250 Gentilly.\n\nNous recevrons Philippe Guillard dit "La Guille": International universitaire, militaire et France B, champion de France avec le Racing, en 1990 avec un nœud papillon rose. Reconverti en chroniqueur radio et télévision, réalisateur et scénariste. Il nous parlera de sa carrière de joueur, de sa reconversion, de sa vision du rugby et de son évolution.\n\nNous serons très heureux de vous recevoir à cette occasion, ainsi qu’une personne supplémentaire représentant votre équipe. Si vous souhaitez inviter d’autres représentants de votre équipe dans la limite de 3, nous leur demanderons une participation spécifique de 45€ TTC par personne. \n\nPour les inscriptions et plus d'infos, contactez Niels GOMONT : niels.gomont@gmail.com\n\n 
BEGIN:VALARM
ACTION:DISPLAY
TRIGGER:-PT60M
DESCRIPTION:Club ARMs - Dîner avec l'Association LARGE
END:VALARM
END:VEVENT
END:VCALENDAR