BEGIN:VCALENDAR
VERSION:2.0
X-WR-TIMEZONE:Europe/Paris
PRODID:-//Audencia//NONSGML v1.0//EN
CALSCALE:GREGORIAN
BEGIN:VEVENT
SUMMARY:Club ARMs - Dîner de Noël
DTSTART:20191210T200000
DTEND:20191210T223000
UID:564
DTSTAMP:20260425T205854
LOCATION:Vin & Marée Maine Montparnasse 108 Avenue du Maine Paris 14
DESCRIPTION:Pour fêter la fin d'année, le Club Audencia Alumni Rugby organise un dîner de Noël le mardi 10 décembre à partir de 20h au resturant Vin & Marée Maine Montparnasse (Paris 14).\n\nPour les inscriptions et plus d'infos, contactez Niels GOMONT : niels.gomont@gmail.com\n\n
BEGIN:VALARM
ACTION:DISPLAY
TRIGGER:-PT60M
DESCRIPTION:Club ARMs - Dîner de Noël
END:VALARM
END:VEVENT
END:VCALENDAR