BEGIN:VCALENDAR
VERSION:2.0
X-WR-TIMEZONE:Europe/Paris
PRODID:-//Audencia//NONSGML v1.0//EN
CALSCALE:GREGORIAN
BEGIN:VEVENT
SUMMARY:AMBA Connect in Singapore
DTSTART:20191118T180000
DTEND:20191118T213000
UID:563
DTSTAMP:20260425T205726
LOCATION:Level 4 Function Lounge Singapore Management University - School of Law 55 Armenian Street Singapore 179943
DESCRIPTION:Network, connect, engage, inspire\n\nAMBA Connect events is a series of member-focused, evening events designed to bring together student and graduate members from our ever-growing network of MBAs, MBMs and DBAs around the world.\n\nThese free events are the perfect setting for future business leaders from AMBA-accredited programmes who wish to meet and exchange insights with like-minded peers, build their professional networks and hear from business leaders, academics and thought-leaders.\n\nThis November we find ourselves in Singapore, and we invite our members from around Asia and beyond to join us for an evening of high level discussions, informative expert opinion and invaluable networking opportunities.\n\nJoin us from 6:00pm on Monday 18 November in the Level 4 Function Lounge, Singapore Management University, School of Law, 55 Armenian St, Singapore\n\n \nREGISTER FOR YOUR PLACE HERE\n\n \n\nVenue\nSMU School of Law traces its origins to 2000. Then, its predecessor, the Law Department within the Lee Kong Chian School of Business, was created and headed by Professor Andrew Phang (presently Judge of Appeal). In 2007, with Professor Michael Furmston at the helm, the department became a full-fledged law school and welcomed its first batch of students to its LLB and JD programmes.\nSMU School of Law has since expanded its academic offerings to include, among others, JD and LLM degrees as well as a suite of seminars for legal practitioners to obtain their CPD points under its SMU Law Academy.\n \nProgramme\n18:00 – 18:30    Registration Opens\n18:30 – 18:35    Welcome \n18:35 – 19:00    Ice Breaker \n19:00 – 20:00    Speaker\n20:00 – 20:20    AMBA Membership presentation\n20:20 – 21:30    Networking and refreshments\n \nSpeaker\nČedomir Nestorović is Professor of Geopolitics and Islamic Business at ESSEC Business School (ESSEC). He is also the Director of the ESSEC and Mannheim Executive MBA Asia-Pacific and Academic Co-Director of the MBA programme at the Arabian Gulf University, Manama, Bahrain. Now based at its campus in Singapore, he has taught at ESSEC for more than 20 years.\nČedomir’s research interests include the geopolitics of Asia, international marketing and commerce, and Islamic business and management. He was named ‘Professor of the Week’ by the Financial Times in 2012 and awarded the best teacher prize at ESSEC in 2017. He teaches regularly in Paris, Mannheim, Tokyo, Seoul, Singapore, Kuala Lumpur, Bahrain, Amman, and Casablanca, for students and for companies such as Takeda Pharmaceutical Company, Danone and Thales.\nČedomir is a frequent expert commentator on geopolitical issues, especially on the relationship between the US and China, and has appeared on TV channels, such as CNBC and CNA, and in newspapers, such as Le Monde, Libération, The National (Abu Dhabi), the Jakarta Post and the Business Times (Singapore).\n \nAMBA Membership\n\nDid you graduate from an AMBA-accredited programme at Audencia?\n\nAlumni from Audencia's Grande Ecole and MBA (full-time, executive part-time & EuroMBA) programmes are invited by AMBA, the Association of MBAs for an evening of networking and relationship-building in Amsterdam with students and alumni of AMBA-accredited programmes.\n\nThis event is free for students and graduates of AMBA-accredited programmes but online registration is required.\nStudents and graduates of AMBA-accredited programmes are eligible for free AMBA membership, which provides a range of exclusive benefits.\nIf you have not activated your free AMBA membership, registering for this event and selecting 'Yes' in the 'Are you interested in AMBA membership question' you agree for AMBA to automatically activate your free membership (depending on eligibility) following the event and to begin receiving membership communications.\n\nIf you have any questions about AMBA membership please visit www.associationofmbas.com/students-and-graduates or contact the team via membership@associationofmbas.com\n\n 
BEGIN:VALARM
ACTION:DISPLAY
TRIGGER:-PT60M
DESCRIPTION:AMBA Connect in Singapore
END:VALARM
END:VEVENT
END:VCALENDAR