BEGIN:VCALENDAR
VERSION:2.0
X-WR-TIMEZONE:Europe/Paris
PRODID:-//Audencia//NONSGML v1.0//EN
CALSCALE:GREGORIAN
BEGIN:VEVENT
SUMMARY:MBA business cards
DTSTART:20191108T113000
DTEND:20191108T123000
UID:562
DTSTAMP:20260425T223738
LOCATION:At the "salon des profs" Audencia Atlantic Campus 8 route de la Jonelière Nantes
DESCRIPTION:MBA class of 2020 business cards are ready!\n\nCome and collect them on Friday 8 November between 12:00pm and 1:00pm at the "salon des profs" (clue: opposite the reception desk on your left as you go towards the cafeteria!)\n\nReceiving your MBA business cards will also be a symbolic opportunity to discuss connecting with alumni.\nLooking forward to seeing you there.\n\nKatie Francois - Audencia Alumni
BEGIN:VALARM
ACTION:DISPLAY
TRIGGER:-PT60M
DESCRIPTION:MBA business cards
END:VALARM
END:VEVENT
END:VCALENDAR