BEGIN:VCALENDAR
VERSION:2.0
X-WR-TIMEZONE:Europe/Paris
PRODID:-//Audencia//NONSGML v1.0//EN
CALSCALE:GREGORIAN
BEGIN:VEVENT
SUMMARY:Webinar: Monique Valcour on your mid-career check-up
DTSTART:20191114T193000
DTEND:20191114T203000
UID:561
DTSTAMP:20260425T205846
LOCATION:
DESCRIPTION:Join the webinar on your mid-career check-up\n\n\nMid-career can be disorienting. We may find professional achievements less meaningful. Or career demands suddenly feeling unsustainable. In fact, long-term research finds such shifts are common and follow clear patterns. In this webinar, HBR contributor and management professor Monique Valcour will show how a mid-career check-up allows professionals to take stock of where they are, clarify what's important for the next phase of their career, and develop strategies to get them there. \n\nAccording to the kaleidoscope model of careers, we are motivated professionally by three key drivers: authenticity, balance and challenge. How we value each of these usually determines our choice of work and how we approach it.  The “shock” of mid-career is frequently triggered by shifts in these basic motivations.  The solution is not to try harder or double-down but to step back and consider what could be happening at this motivational level.\n\nIn this webinar we will consider some of the classic dilemmas of mid-career and look at ways to plot a new path.  In particular:\n\n\n	How to recognise that your motivations are changing\n	What a career check-up looks like, and when to start one\n	How to re-examine the stories you tell yourself about work\n	How to explore new possibilities and futures\n	The rewards and opportunities that a check-up can generate\n\n\nThis live webinar is from 19:30 to 20:30 (Paris time) on Thursday 14 November. We have free tickets for member alumni and students here:  \n \n \n\nREGISTRATION\nThere are 100 free tickets for Audencia's alumni and students\n(use code “audstudent” if the free ticket is not shown)\n \n\n\n \n\n\n\nIf you are not available, register to ensure you receive the replay!\nAll attendees will receive the meeting slides, a recording and resource pack.
BEGIN:VALARM
ACTION:DISPLAY
TRIGGER:-PT60M
DESCRIPTION:Webinar: Monique Valcour on your mid-career check-up
END:VALARM
END:VEVENT
END:VCALENDAR