BEGIN:VCALENDAR
VERSION:2.0
X-WR-TIMEZONE:Europe/Paris
PRODID:-//Audencia//NONSGML v1.0//EN
CALSCALE:GREGORIAN
BEGIN:VEVENT
SUMMARY:Webinar: Julianne Miles on returning to work after a career break
DTSTART:20191205T130000
DTEND:20191205T140000
UID:560
DTSTAMP:20260425T205814
LOCATION:
DESCRIPTION:Join the webinar on returning to work after a career break\n\n\nReturning to work after a career break is daunting. Returners worry that their skills may be out of date. Or that employers will insist on having them full time in the office. In fact, companies are more and more receptive to returners: offering both formal “returnships” and rolling out flexible working.\n\nDrawing on hundreds of case studies, Julianne Miles MBE discusses returnships (mid-career internships), strategic volunteering, networking and a variety of non-standard job-hunting techniques which career returners have used successfully.\n \n\nBreaks are the new normal\n\nAs careers extend to 40 or 50 years both women and men inevitably want to make more career pivots, take more breaks and plot more varied careers.  Increasingly opportunities are opening up and returners are finding their skills more appreciated by employers. \n\nIn this webinar we will look at the experience of hundreds of successful returners and see how they have plotted their career steps.\n\nIn particular we will look at:\n\n\n	How Returnships (mid-career internships) can help\n	What employers value about career breaks\n	Strategic volunteering (what this means and actual examples)\n	When to consider Going back to study or retraining\n	How to present a break on your CV or LinkedIn profile\n	Why you should avoid or delay refining too much your requirements for a relaunch career\n	Networking that works best for returners.\n\n\nThis live webinar is from 13:00 to 14:00 (Paris time) on Thursday 5 December. We have free tickets for member alumni and students here:  \n \n \n\nREGISTRATION\nThere are 100 free tickets for Audencia's alumni and students\n(use code “AUDstudent” if the free ticket is not shown)\n \n\n\n \n\n\n\nIf you are not available, register to ensure you receive the replay!\nAll attendees will receive the meeting slides, a recording and resource pack.
BEGIN:VALARM
ACTION:DISPLAY
TRIGGER:-PT60M
DESCRIPTION:Webinar: Julianne Miles on returning to work after a career break
END:VALARM
END:VEVENT
END:VCALENDAR