BEGIN:VCALENDAR
VERSION:2.0
X-WR-TIMEZONE:Europe/Paris
PRODID:-//Audencia//NONSGML v1.0//EN
CALSCALE:GREGORIAN
BEGIN:VEVENT
SUMMARY:Cercle des Dirigeants - Soirée "champagnes et caviars"
DTSTART:20200115T200000
DTEND:20200115T220000
UID:559
DTSTAMP:20260425T205851
LOCATION:Comptoir du Caviar 23, Boulevard Malesherbes 75008 Paris
DESCRIPTION:Chers membres du Cercle des Dirigeants, \n \nNous avons le plaisir de vous inviter lors d'un événement prestigieux, le 15 janvier 2020 : \n \n\nUne soirée « champagnes et caviars »\n\n \nNous vous proposerons une balade gustative haut de gamme, pendant laquelle vous pourrez déguster 4 champagnes de vigneron d’exception, en accord avec 4 caviars. Au cours de cette expérience, vous découvrirez tous les secrets du champagne et du caviar, de leur élaboration à leur dégustation. \n \nCette soirée sera placée sous le signe de l'excellence et, à cette occasion, le Comptoir du Caviar sera privatisé à votre attention.\n\nVos hôtes pour la soirée : \n \n\n\n\nSophie Roulé (GE 98) experte en vins, Fondatrice de Involuté Vins & Evènements\n \n\n\n\n\n\nEvelyne Dambreville (GE 11) experte en caviars, Responsable marketing à Comptoir du Caviar\n \n\n\n\n\nLes places étant limitées, nous vous remercions par avance de vous inscrire auprès de Nushad Merchant (Audencia Alumni - Paris), par retour de mail à nushad.merchant@audencia.com.\n \nNous vous attendons nombreux.\n \nBien à vous,\nLe Cercle des Dirigeants\n \n \n\nAmbassadeurs du Cercles des Dirigeants d'Audencia\n \n \n\nSébastien Rouzaire (GE 91), Président Fondateur de Kerius Finance (www.kerius-finance.com), société indépendante de conseil et service spécialisée en gestion et couverture des risques de change, taux d’intérêts et matières premières.\n \n\n\n\n\nPhilippe Serzec (GE 92), Associé Deloitte Transaction Services, département spécialisé en due diligence financière d’acquisition et de cession, en charge des ETI et PME.\n \n \n \nLe Cercle des Dirigeants Audencia est une initiative d’Audencia Alumni, réseau des diplômés d’Audencia. L'objectif du Cercle est de rassembler les diplômés de plus de 15 ans d'expérience, occupant un poste de dirigeant ou de direction dans leur entreprise. Les réunions sont organisées chaque année autour de thèmes variés et d’une formule conférence/cocktail dans le but de partager des problématiques communes et développer le réseau relationnel professionnel entre diplômés Audencia. \n \n \nRejoindre Le Cercle des Dirigeants sur LinkedIn
BEGIN:VALARM
ACTION:DISPLAY
TRIGGER:-PT60M
DESCRIPTION:Cercle des Dirigeants - Soirée "champagnes et caviars"
END:VALARM
END:VEVENT
END:VCALENDAR