BEGIN:VCALENDAR
VERSION:2.0
X-WR-TIMEZONE:Europe/Paris
PRODID:-//Audencia//NONSGML v1.0//EN
CALSCALE:GREGORIAN
BEGIN:VEVENT
SUMMARY:Club ARMs - Finale du rugby
DTSTART:20191102T100000
DTEND:20191102T130000
UID:558
DTSTAMP:20260425T205721
LOCATION:Monsieur Le Zinc 34 rue Letellier Paris 15
DESCRIPTION:Le Club ARMs vous invite à regarder la finale de rugby au bar Monsieur Le Zinc ce samedi 2 novembre à partir de 10h.\n\nAu plaisir de vous retrouver,\nNiels\nAmbassadeur du Club ARMs
BEGIN:VALARM
ACTION:DISPLAY
TRIGGER:-PT60M
DESCRIPTION:Club ARMs - Finale du rugby
END:VALARM
END:VEVENT
END:VCALENDAR